BEGIN:VCALENDAR
VERSION:2.0
PRODID:-//Revista Aventurero - ECPv6.0.3//NONSGML v1.0//EN
CALSCALE:GREGORIAN
METHOD:PUBLISH
X-ORIGINAL-URL:https://revistaaventurero.com.mx
X-WR-CALDESC:Events for Revista Aventurero
REFRESH-INTERVAL;VALUE=DURATION:PT1H
X-Robots-Tag:noindex
X-PUBLISHED-TTL:PT1H
BEGIN:VTIMEZONE
TZID:America/Mexico_City
BEGIN:DAYLIGHT
TZOFFSETFROM:-0600
TZOFFSETTO:-0500
TZNAME:CDT
DTSTART:20170402T080000
END:DAYLIGHT
BEGIN:STANDARD
TZOFFSETFROM:-0500
TZOFFSETTO:-0600
TZNAME:CST
DTSTART:20171029T070000
END:STANDARD
BEGIN:DAYLIGHT
TZOFFSETFROM:-0600
TZOFFSETTO:-0500
TZNAME:CDT
DTSTART:20180401T080000
END:DAYLIGHT
BEGIN:STANDARD
TZOFFSETFROM:-0500
TZOFFSETTO:-0600
TZNAME:CST
DTSTART:20181028T070000
END:STANDARD
BEGIN:DAYLIGHT
TZOFFSETFROM:-0600
TZOFFSETTO:-0500
TZNAME:CDT
DTSTART:20190407T080000
END:DAYLIGHT
BEGIN:STANDARD
TZOFFSETFROM:-0500
TZOFFSETTO:-0600
TZNAME:CST
DTSTART:20191027T070000
END:STANDARD
END:VTIMEZONE
BEGIN:VEVENT
DTSTART;TZID=America/Mexico_City:20170624T080000
DTEND;TZID=America/Mexico_City:20170815T170000
DTSTAMP:20260425T061236
CREATED:20170607T073941Z
LAST-MODIFIED:20170607T074232Z
UID:77-1498291200-1502816400@revistaaventurero.com.mx
SUMMARY:Luciernagas
DESCRIPTION:Inicio de temporada
URL:https://revistaaventurero.com.mx/event/luciernagas/
ATTACH;FMTTYPE=image/png:https://revistaaventurero.com.mx/wp-content/uploads/2017/06/luciernagas.png
END:VEVENT
BEGIN:VEVENT
DTSTART;VALUE=DATE:20190223
DTEND;VALUE=DATE:20190225
DTSTAMP:20260425T061236
CREATED:20190225T224627Z
LAST-MODIFIED:20190225T230945Z
UID:7577-1550880000-1551052799@revistaaventurero.com.mx
SUMMARY:4º FESTIVAL DE LA CERVEZA ARTESANAL EN TEXCOCO
DESCRIPTION:DISFRUTA DEL 4º FESTIVAL DE LA CERVEZA ARTESANAL EN TEXCOCO \n \n 
URL:https://revistaaventurero.com.mx/event/4o-festival-de-la-cerveza-artesanal-en-texcoco/
ATTACH;FMTTYPE=image/jpeg:https://revistaaventurero.com.mx/wp-content/uploads/2019/02/BEERFEST-3-Pixabay.jpg
END:VEVENT
BEGIN:VEVENT
DTSTART;TZID=America/Mexico_City:20190227T180000
DTEND;TZID=America/Mexico_City:20190227T220000
DTSTAMP:20260425T061236
CREATED:20190225T221641Z
LAST-MODIFIED:20190225T231040Z
UID:7566-1551290400-1551304800@revistaaventurero.com.mx
SUMMARY:NOCHE DE MUSEOS
DESCRIPTION:¡LA PRÓXIMA SEMANA HAY NOCHE DE MUSEOS! ¿QUÉ ACTIVIDADES HABRÁ?
URL:https://revistaaventurero.com.mx/event/noche-de-museos/
ATTACH;FMTTYPE=image/jpeg:https://revistaaventurero.com.mx/wp-content/uploads/2018/08/MUSEO-DE-LA-CIUDAD-DE-MÉXICO-www.mexicoescultura.com_.jpg
END:VEVENT
BEGIN:VEVENT
DTSTART;VALUE=DATE:20190302
DTEND;VALUE=DATE:20190304
DTSTAMP:20260425T061236
CREATED:20190225T224752Z
LAST-MODIFIED:20190225T224752Z
UID:7580-1551484800-1551657599@revistaaventurero.com.mx
SUMMARY:FERIA DEL TACO 2019 EN PACHUCA\, HIDALGO
DESCRIPTION:¡PÁSELE\, PÁSELE!  A LA FERIA DEL TACO 2019 EN PACHUCA\, HIDALGO \n \n 
URL:https://revistaaventurero.com.mx/event/feria-del-taco-2019-en-pachuca-hidalgo/
ATTACH;FMTTYPE=image/jpeg:https://revistaaventurero.com.mx/wp-content/uploads/2019/02/tacos-1613795_1920.jpg
END:VEVENT
BEGIN:VEVENT
DTSTART;VALUE=DATE:20190309
DTEND;VALUE=DATE:20190311
DTSTAMP:20260425T061236
CREATED:20190225T230209Z
LAST-MODIFIED:20190225T230209Z
UID:7590-1552089600-1552262399@revistaaventurero.com.mx
SUMMARY:FESTIVAL EUROJAZZ 2019
DESCRIPTION:¡EL EUROJAZZ REGRESA AL CENART! CONOCE EL CARTEL OFICIAL
URL:https://revistaaventurero.com.mx/event/festival-eurojazz-2019/
ATTACH;FMTTYPE=image/jpeg:https://revistaaventurero.com.mx/wp-content/uploads/2018/09/JAZZ-Pixabay.jpg
END:VEVENT
BEGIN:VEVENT
DTSTART;VALUE=DATE:20190315
DTEND;VALUE=DATE:20190325
DTSTAMP:20260425T061236
CREATED:20190225T222651Z
LAST-MODIFIED:20190225T222651Z
UID:7572-1552608000-1553471999@revistaaventurero.com.mx
SUMMARY:81 FERIA DE LAS FLORES EN HUAUCHINANGO\, PUEBLA
DESCRIPTION:81 AÑOS DE TRADICIÓN\, EN LA FERIA DE LAS FLORES EN HUAUCHINANGO\, PUEBLA \n \n 
URL:https://revistaaventurero.com.mx/event/81-feria-de-las-flores-en-huauchinango-puebla/
ATTACH;FMTTYPE=image/jpeg:https://revistaaventurero.com.mx/wp-content/uploads/2019/02/FERIA-DE-LAS-FLORES-www.huauchinangopueblomagico.gob_.mx_.jpg
END:VEVENT
BEGIN:VEVENT
DTSTART;VALUE=DATE:20190316
DTEND;VALUE=DATE:20190318
DTSTAMP:20260425T061236
CREATED:20190225T230252Z
LAST-MODIFIED:20190225T230252Z
UID:7592-1552694400-1552867199@revistaaventurero.com.mx
SUMMARY:FESTIVAL EUROJAZZ 2019
DESCRIPTION:¡EL EUROJAZZ REGRESA AL CENART! CONOCE EL CARTEL OFICIAL
URL:https://revistaaventurero.com.mx/event/festival-eurojazz-2019-2/
ATTACH;FMTTYPE=image/jpeg:https://revistaaventurero.com.mx/wp-content/uploads/2018/09/JAZZ-Pixabay.jpg
END:VEVENT
BEGIN:VEVENT
DTSTART;VALUE=DATE:20190323
DTEND;VALUE=DATE:20190325
DTSTAMP:20260425T061236
CREATED:20190225T230402Z
LAST-MODIFIED:20190225T230402Z
UID:7594-1553299200-1553471999@revistaaventurero.com.mx
SUMMARY:FESTIVAL EUROJAZZ 2019
DESCRIPTION:¡EL EUROJAZZ REGRESA AL CENART! CONOCE EL CARTEL OFICIAL
URL:https://revistaaventurero.com.mx/event/festival-eurojazz-2019-3/
ATTACH;FMTTYPE=image/jpeg:https://revistaaventurero.com.mx/wp-content/uploads/2018/09/JAZZ-Pixabay.jpg
END:VEVENT
BEGIN:VEVENT
DTSTART;VALUE=DATE:20190330
DTEND;VALUE=DATE:20190401
DTSTAMP:20260425T061236
CREATED:20190225T230442Z
LAST-MODIFIED:20190225T230516Z
UID:7597-1553904000-1554076799@revistaaventurero.com.mx
SUMMARY:FESTIVAL EUROJAZZ 2019
DESCRIPTION:¡EL EUROJAZZ REGRESA AL CENART! CONOCE EL CARTEL OFICIAL \n \n 
URL:https://revistaaventurero.com.mx/event/festival-euojazz-2019/
ATTACH;FMTTYPE=image/jpeg:https://revistaaventurero.com.mx/wp-content/uploads/2018/09/JAZZ-Pixabay.jpg
END:VEVENT
BEGIN:VEVENT
DTSTART;VALUE=DATE:20190330
DTEND;VALUE=DATE:20190401
DTSTAMP:20260425T061236
CREATED:20190225T230747Z
LAST-MODIFIED:20190225T230747Z
UID:7600-1553904000-1554076799@revistaaventurero.com.mx
SUMMARY:FESTIVAL DEL MEZCAL\, QUESO Y VINO EN TEPOTZOTLÁN
DESCRIPTION:¡CONSIENTE A TU PALADAR! FESTIVAL DEL MEZCAL\, QUESO Y VINO EN TEPOTZOTLÁN \n \n 
URL:https://revistaaventurero.com.mx/event/festival-del-mezcal-queso-y-vino-en-tepotzotlan/
ATTACH;FMTTYPE=image/jpeg:https://revistaaventurero.com.mx/wp-content/uploads/2019/01/MEZCAL-QUESO-PIXABAY.jpg
END:VEVENT
BEGIN:VEVENT
DTSTART;TZID=America/Mexico_City:20190330T110000
DTEND;TZID=America/Mexico_City:20190331T200000
DTSTAMP:20260425T061236
CREATED:20190225T225127Z
LAST-MODIFIED:20190225T225127Z
UID:7585-1553943600-1554062400@revistaaventurero.com.mx
SUMMARY:FESTIVAL DE CAFÉ Y CHOCOLATE EN EL CENTRO HISTÓRICO DE LA CDMX
DESCRIPTION:FESTIVAL DE CAFÉ Y CHOCOLATE EN EL CENTRO HISTÓRICO DE LA CDMX
URL:https://revistaaventurero.com.mx/event/festival-de-cafe-y-chocolate-en-el-centro-historico-de-la-cdmx/
ATTACH;FMTTYPE=image/jpeg:https://revistaaventurero.com.mx/wp-content/uploads/2019/02/Café-y-Chocolate-Fest-Facebook-2.jpg
END:VEVENT
BEGIN:VEVENT
DTSTART;TZID=America/Mexico_City:20190330T120000
DTEND;TZID=America/Mexico_City:20190331T220000
DTSTAMP:20260425T061236
CREATED:20190225T225240Z
LAST-MODIFIED:20190225T225240Z
UID:7587-1553947200-1554069600@revistaaventurero.com.mx
SUMMARY:5TO FESTIVAL DEL PULQUE\, MEZCAL Y CERVEZA ARTESANAL EN TLÁHUAC
DESCRIPTION:5TO FESTIVAL DEL PULQUE\, MEZCAL Y CERVEZA ARTESANAL EN TLÁHUAC \n \n 
URL:https://revistaaventurero.com.mx/event/5to-festival-del-pulque-mezcal-y-cerveza-artesanal-en-tlahuac/
ATTACH;FMTTYPE=image/jpeg:https://revistaaventurero.com.mx/wp-content/uploads/2019/02/CERVEZA-Pixabay.jpg
END:VEVENT
BEGIN:VEVENT
DTSTART;TZID=America/Mexico_City:20190405T120000
DTEND;TZID=America/Mexico_City:20190407T220000
DTSTAMP:20260425T061236
CREATED:20190225T224929Z
LAST-MODIFIED:20190225T224929Z
UID:7582-1554465600-1554674400@revistaaventurero.com.mx
SUMMARY:FESTIVAL MEDIEVAL 2019 EN LA MARQUESA
DESCRIPTION:¡YA VIENE EL FESTIVAL MEDIEVAL 2019 EN LA MARQUESA! \n \n 
URL:https://revistaaventurero.com.mx/event/festival-medieval-2019-en-la-marquesa/
ATTACH;FMTTYPE=image/jpeg:https://revistaaventurero.com.mx/wp-content/uploads/2019/02/Festival-Medieval-la-Marquesa-Méxido-Facebook-4.jpg
END:VEVENT
BEGIN:VEVENT
DTSTART;VALUE=DATE:20190412
DTEND;VALUE=DATE:20190413
DTSTAMP:20260425T061236
CREATED:20190225T224457Z
LAST-MODIFIED:20190225T224457Z
UID:7575-1555027200-1555113599@revistaaventurero.com.mx
SUMMARY:APERTURA DEL SANTUARIO DE LOS GIRASOLES EN TABASCO
DESCRIPTION:¿CONOCES EL SANTUARIO DE LOS GIRASOLES EN TABASCO? \n \n 
URL:https://revistaaventurero.com.mx/event/apertura-del-santuario-de-los-girasoles-en-tabasco/
ATTACH;FMTTYPE=image/jpeg:https://revistaaventurero.com.mx/wp-content/uploads/2018/04/Fotografía-Facebook-El-Santuario-de-los-Girasoles-2.jpg
END:VEVENT
BEGIN:VEVENT
DTSTART;VALUE=DATE:20190518
DTEND;VALUE=DATE:20190520
DTSTAMP:20260425T061236
CREATED:20190225T222317Z
LAST-MODIFIED:20190225T222420Z
UID:7569-1558137600-1558310399@revistaaventurero.com.mx
SUMMARY:3 FESTIVAL DE CERVEZA ARTESANAL EN TEOTIHUACÁN
DESCRIPTION:3 FESTIVAL DE CERVEZA ARTESANAL EN TEOTIHUACÁN ¡HABRÁ MÁS DE 100 ETIQUETAS!   \n \n 
URL:https://revistaaventurero.com.mx/event/3-festival-de-cerveza-artesanal-en-teotihuacan/
ATTACH;FMTTYPE=image/jpeg:https://revistaaventurero.com.mx/wp-content/uploads/2019/02/BEERFEST-Pixabay.jpg
END:VEVENT
END:VCALENDAR