BEGIN:VCALENDAR
VERSION:2.0
PRODID:-//Revista Aventurero - ECPv6.0.3//NONSGML v1.0//EN
CALSCALE:GREGORIAN
METHOD:PUBLISH
X-WR-CALNAME:Revista Aventurero
X-ORIGINAL-URL:https://revistaaventurero.com.mx
X-WR-CALDESC:Events for Revista Aventurero
REFRESH-INTERVAL;VALUE=DURATION:PT1H
X-Robots-Tag:noindex
X-PUBLISHED-TTL:PT1H
BEGIN:VTIMEZONE
TZID:America/Mexico_City
BEGIN:DAYLIGHT
TZOFFSETFROM:-0600
TZOFFSETTO:-0500
TZNAME:CDT
DTSTART:20190407T080000
END:DAYLIGHT
BEGIN:STANDARD
TZOFFSETFROM:-0500
TZOFFSETTO:-0600
TZNAME:CST
DTSTART:20191027T070000
END:STANDARD
END:VTIMEZONE
BEGIN:VEVENT
DTSTART;TZID=America/Mexico_City:20190405T120000
DTEND;TZID=America/Mexico_City:20190407T220000
DTSTAMP:20260423T225407
CREATED:20190225T224929Z
LAST-MODIFIED:20190225T224929Z
UID:7582-1554465600-1554674400@revistaaventurero.com.mx
SUMMARY:FESTIVAL MEDIEVAL 2019 EN LA MARQUESA
DESCRIPTION:¡YA VIENE EL FESTIVAL MEDIEVAL 2019 EN LA MARQUESA! \n \n 
URL:https://revistaaventurero.com.mx/event/festival-medieval-2019-en-la-marquesa/
ATTACH;FMTTYPE=image/jpeg:https://revistaaventurero.com.mx/wp-content/uploads/2019/02/Festival-Medieval-la-Marquesa-Méxido-Facebook-4.jpg
END:VEVENT
BEGIN:VEVENT
DTSTART;VALUE=DATE:20190412
DTEND;VALUE=DATE:20190413
DTSTAMP:20260423T225407
CREATED:20190225T224457Z
LAST-MODIFIED:20190225T224457Z
UID:7575-1555027200-1555113599@revistaaventurero.com.mx
SUMMARY:APERTURA DEL SANTUARIO DE LOS GIRASOLES EN TABASCO
DESCRIPTION:¿CONOCES EL SANTUARIO DE LOS GIRASOLES EN TABASCO? \n \n 
URL:https://revistaaventurero.com.mx/event/apertura-del-santuario-de-los-girasoles-en-tabasco/
ATTACH;FMTTYPE=image/jpeg:https://revistaaventurero.com.mx/wp-content/uploads/2018/04/Fotografía-Facebook-El-Santuario-de-los-Girasoles-2.jpg
END:VEVENT
END:VCALENDAR